BEGIN:VCALENDAR
VERSION:2.0
PRODID:spatie/icalendar-generator
NAME:Carver Community Center Events
X-WR-CALNAME:Carver Community Center Events
BEGIN:VTIMEZONE
TZID:UTC
BEGIN:STANDARD
DTSTART:20240625T170000
TZOFFSETFROM:+0000
TZOFFSETTO:+0000
END:STANDARD
END:VTIMEZONE
BEGIN:VEVENT
UID:69e985190e208
DTSTAMP:20260423T023401Z
SUMMARY:Senior Socials
DESCRIPTION:Join us for Carver Senior Socials! Bring your friends for fun a
 ctivities\, games\, snacks\, and prizes. Make fun new memories or reminisc
 e about past times.\nEvery 4th Saturday from noon - 2 PM.\n\n\n
LOCATION:710 W Percy Baker Dr. \nPeoria\, IL 61605
URL:https://www.facebook.com/GWCAssoc
DTSTART:20250322T170000Z
DTEND:20250322T190000Z
END:VEVENT
END:VCALENDAR