BEGIN:VCALENDAR
VERSION:2.0
PRODID:spatie/icalendar-generator
NAME:Carver Community Center Events
X-WR-CALNAME:Carver Community Center Events
BEGIN:VTIMEZONE
TZID:UTC
BEGIN:STANDARD
DTSTART:20240913T230000
TZOFFSETFROM:+0000
TZOFFSETTO:+0000
END:STANDARD
END:VTIMEZONE
BEGIN:VEVENT
UID:69e9232279779
DTSTAMP:20260422T193602Z
SUMMARY:Carver High School Basketball League
DESCRIPTION:\n\nCalling all High School Basketball Teams and Coaches!!\nSta
 y in the Game and don’t let your team take the summer off — join Carve
 r's High School League!\n League Runs: June 10 – July 15\n Games @ The C
 arver Center\, 710 W Third St.\, Peoria\, IL 61605\n Every Tuesday from 6-
 8PM\nWho Can Join: Open to all high school teams \n Cost to Join: $250 per
  team (includes jersey)\n Sign up by calling (309) 839-0722 ext. 103 or st
 op by Carver.\n Register at: www.givebutter.com/carverbasketball2025\n
LOCATION:710 W Third St.\nPeoria\, IL 61605
DTSTART:20250610T230000Z
DTEND:20250716T010000Z
END:VEVENT
END:VCALENDAR